BEGIN:VCALENDAR
VERSION:2.0
PRODID:-//Maximilian Bung - ECPv6.15.20//NONSGML v1.0//EN
CALSCALE:GREGORIAN
METHOD:PUBLISH
X-WR-CALNAME:Maximilian Bung
X-ORIGINAL-URL:https://maximilian-bung.de
X-WR-CALDESC:Veranstaltungen für Maximilian Bung
REFRESH-INTERVAL;VALUE=DURATION:PT1H
X-Robots-Tag:noindex
X-PUBLISHED-TTL:PT1H
BEGIN:VTIMEZONE
TZID:UTC
BEGIN:STANDARD
TZOFFSETFROM:+0000
TZOFFSETTO:+0000
TZNAME:UTC
DTSTART:20250101T000000
END:STANDARD
END:VTIMEZONE
BEGIN:VEVENT
DTSTART;TZID=UTC:20260422T180000
DTEND;TZID=UTC:20260422T193000
DTSTAMP:20260420T170357
CREATED:20260310T184342Z
LAST-MODIFIED:20260409T080051Z
UID:61-1776880800-1776886200@maximilian-bung.de
SUMMARY:Ehrliches Mitteilen Lokale Gruppe
DESCRIPTION:Wenn Du möchtest\, kannst Du das Format mit einer freiwilligen Spende unterstützen.Der Richtwert zur Deckung der Raumkosten liegt bei etwa 5 €. \nDie Spende ist jedoch keine Voraussetzung für die Teilnahme. \nSollten Gedanken oder Gefühle zu diesem Thema auftauchen\, können sie natürlich auch im Ehrlichen Mitteilen ihren Platz finden. \nEine vorherige Kontaktaufnahme ist erforderlich.Ohne vorherige Anmeldung ist eine Teilnahme an der lokalen Gruppe nicht möglich. \nWenn Du Interesse hast\, schreibe mir gerne über das Kontaktformular.Ich melde mich anschließend mit weiteren Informationen bei Dir. \nZum Kontaktformular
URL:https://maximilian-bung.de/event/ehrliches-mitteilen/
LOCATION:musewerk\, Karolinenstraße 11a\, Lüdenscheid\, 58507
END:VEVENT
END:VCALENDAR